BEGIN:VCALENDAR
VERSION:2.0
PRODID:-//Community Hero PA - ECPv6.15.17.1//NONSGML v1.0//EN
CALSCALE:GREGORIAN
METHOD:PUBLISH
X-WR-CALNAME:Community Hero PA
X-ORIGINAL-URL:https://communityheropa.org
X-WR-CALDESC:Events for Community Hero PA
REFRESH-INTERVAL;VALUE=DURATION:PT1H
X-Robots-Tag:noindex
X-PUBLISHED-TTL:PT1H
BEGIN:VTIMEZONE
TZID:America/New_York
BEGIN:DAYLIGHT
TZOFFSETFROM:-0500
TZOFFSETTO:-0400
TZNAME:EDT
DTSTART:20230312T070000
END:DAYLIGHT
BEGIN:STANDARD
TZOFFSETFROM:-0400
TZOFFSETTO:-0500
TZNAME:EST
DTSTART:20231105T060000
END:STANDARD
BEGIN:DAYLIGHT
TZOFFSETFROM:-0500
TZOFFSETTO:-0400
TZNAME:EDT
DTSTART:20240310T070000
END:DAYLIGHT
BEGIN:STANDARD
TZOFFSETFROM:-0400
TZOFFSETTO:-0500
TZNAME:EST
DTSTART:20241103T060000
END:STANDARD
BEGIN:DAYLIGHT
TZOFFSETFROM:-0500
TZOFFSETTO:-0400
TZNAME:EDT
DTSTART:20250309T070000
END:DAYLIGHT
BEGIN:STANDARD
TZOFFSETFROM:-0400
TZOFFSETTO:-0500
TZNAME:EST
DTSTART:20251102T060000
END:STANDARD
END:VTIMEZONE
BEGIN:VEVENT
DTSTART;TZID=America/New_York:20240806T173000
DTEND;TZID=America/New_York:20240806T193000
DTSTAMP:20260421T082736
CREATED:20240805T072657Z
LAST-MODIFIED:20240805T072657Z
UID:10000076-1722965400-1722972600@communityheropa.org
SUMMARY:Norristown 11th Night Out "Community Block Party"
DESCRIPTION:Community Hero Action Group joins the Norristown 11th Night Out “Community Block Party”! \nJoin us and the Norristown Pennsylvania Police for a night of neighborhood spirit and community partnership. This event is open to the public. \nDon’t forget to drop by our table for free community resources and educational talks. Let’s work together for a safer Norristown! \n 
URL:https://communityheropa.org/event/norristown-11th-night-out-community-block-party/
LOCATION:500 Block Haws Ave\, 500 Block Haws Ave\, Norristown\, PA\, 19401\, United States
END:VEVENT
BEGIN:VEVENT
DTSTART;TZID=America/New_York:20240812T080000
DTEND;TZID=America/New_York:20240812T170000
DTSTAMP:20260421T082736
CREATED:20240812T121308Z
LAST-MODIFIED:20240812T121308Z
UID:10000083-1723449600-1723482000@communityheropa.org
SUMMARY:2024 Senior Fair with Representative Nelson
DESCRIPTION:We’re back at the 2024 Senior Fair with Representative Nelson! Swing by our table for resources\, info\, and some cool freebies. See you there! \n📅 Thursday\, September 19\, 2024   \n⏰ 10:00 AM – 2:00 PM   \n📍 Keneseth Israel Synagogue   \n8339 Old York Road\, Elkins Park\, PA 19027
URL:https://communityheropa.org/event/2024-senior-fair-with-representative-nelson/
LOCATION:Keneseth Israel Synagogue   8339 Old York Road\, Elkins Park\, PA 19027\, Keneseth Israel Synagogue 8339 Old York Road\, Elkins Park\, PA 19027\, Elkins Park\, PA\, 19027\, United States
ATTACH;FMTTYPE=image/jpeg:https://communityheropa.org/wp-content/uploads/2024/08/2024-Senior-Fair.jpg
END:VEVENT
BEGIN:VEVENT
DTSTART;TZID=America/New_York:20240814T110000
DTEND;TZID=America/New_York:20240814T150000
DTSTAMP:20260421T082736
CREATED:20240804T131800Z
LAST-MODIFIED:20240804T131800Z
UID:10000075-1723633200-1723647600@communityheropa.org
SUMMARY:Fun and Fit Health Day
DESCRIPTION:Join us for a fun and informative Health Fair on August 14th from 11am-3pm at Sandy Hill Terrace Apts! Enjoy free health screenings\, community resources\, entertainment\, and delicious food. Bring your friends and family for a day of wellness and connection. See you there! \nFor more info\, contact cdixon@communityheropa.org
URL:https://communityheropa.org/event/fun-and-fit-health-day/
LOCATION:Sandy Hill Terrace Apts\, 330 Walnut St\, Norristown\, PA 19401\, Sandy Hill Terrace Apts\, 330 Walnut St\, Norristown\, PA 19401\, Norristown\, PA\, 19401\, United States
ATTACH;FMTTYPE=image/jpeg:https://communityheropa.org/wp-content/uploads/2024/08/HEALTH-DAY-SANDY-HILL-1.jpg
ORGANIZER;CN="Community Hero":MAILTO:contactus@communityheropa.org
END:VEVENT
BEGIN:VEVENT
DTSTART;TZID=America/New_York:20240817T113000
DTEND;TZID=America/New_York:20240817T143000
DTSTAMP:20260421T082736
CREATED:20240811T081548Z
LAST-MODIFIED:20240811T081548Z
UID:10000080-1723894200-1723905000@communityheropa.org
SUMMARY:“Aftershock” Screening & Panel Discussion
DESCRIPTION:🌟 Visit Our Table at the “Aftershock” Screening & Panel Discussion 🌟\nCommunity Hero Action Group will be at the screening of “Aftershock\,” hosted by Councilmember Nina Ahmad. This powerful documentary follows two fathers who tragically lost their partners to preventable childbirth complications. \n🗓️ Date: August 17\, 2024\n📍 Location: 1500 Market St.\, Philadelphia\, PA\n⏰ Time: 11:30 AM – 6 PM \nStop by our table to learn more about how we’re advocating for maternal healthcare equity. We hope to see you there! 💜 \n#AftershockDocumentary #MaternalHealth #CommunityHeroAction
URL:https://communityheropa.org/event/aftershock-screening-panel-discussion/
LOCATION:1500 Market St. Philadelphia\, PA 19102 East Tower\, Lower Mezzanine Conference Center\, 1500 Market St. Philadelphia\, PA 19102 East Tower\, Lower Mezzanine Conference Center \, Philadelphia\, PA\, 19102\, United States
ATTACH;FMTTYPE=image/jpeg:https://communityheropa.org/wp-content/uploads/2024/08/Nina-Ahmad-Documentary.jpeg
END:VEVENT
BEGIN:VEVENT
DTSTART;TZID=America/New_York:20240817T120000
DTEND;TZID=America/New_York:20240817T180000
DTSTAMP:20260421T082736
CREATED:20240810T020043Z
LAST-MODIFIED:20240810T020043Z
UID:10000078-1723896000-1723917600@communityheropa.org
SUMMARY:4th Annual Best Vibe Ever Fest with DJ Kuts
DESCRIPTION:Catch the Community Hero Action Group at the 4th Annual Best Vibe Ever Fest with DJ Kuts and Friends! Swing by our table on August 17th\, 12-6pm at Finley Playground (7701 Mansfield Ave\, Phila\, PA) and get involved with the good vibes and great causes. See you there!
URL:https://communityheropa.org/event/4th-annual-best-vibe-ever-fest-with-dj-kuts/
LOCATION:Finley Playground (7701 Mansfield Ave\, Phila\, PA)\, Finley Playground (7701 Mansfield Ave\, Phila\, PA)\, Philadelphia\, PA\, 19132\, United States
ATTACH;FMTTYPE=image/jpeg:https://communityheropa.org/wp-content/uploads/2024/08/Best-Vibe-Ever-2024-Flyer.jpg
END:VEVENT
BEGIN:VEVENT
DTSTART;TZID=America/New_York:20240818T150000
DTEND;TZID=America/New_York:20240818T180000
DTSTAMP:20260421T082736
CREATED:20240810T153851Z
LAST-MODIFIED:20240810T154047Z
UID:10000079-1723993200-1724004000@communityheropa.org
SUMMARY:Summertime Family Festival and Resource Fair
DESCRIPTION:Community Hero Action Group joins State Rep. Greg Scott’s upcoming Summertime Family Festival and Resource Fair with Martha’s Choice Marketplace & Community Farm on Sunday\, August 18th\, 2024\, \nVisit our table to learn more about our programs and resources. We can’t wait to see you there! \n 
URL:https://communityheropa.org/event/summertime-family-festival-and-resource-fair/
LOCATION:Elmwood Park\, 1325 Harding Blvd.\, Norristown\, Elmwood Park\, 1325 Harding Blvd.\, Norristown\, Norristown\, PA\, 19401\, United States
ATTACH;FMTTYPE=image/jpeg:https://communityheropa.org/wp-content/uploads/2024/08/Greg-Scott.jpg
END:VEVENT
BEGIN:VEVENT
DTSTART;TZID=America/New_York:20240824T120000
DTEND;TZID=America/New_York:20240824T160000
DTSTAMP:20260421T082736
CREATED:20240821T033413Z
LAST-MODIFIED:20240821T033413Z
UID:10000085-1724500800-1724515200@communityheropa.org
SUMMARY:Black Voters Matter Fund Event
DESCRIPTION:Join Us at the Black Voters Matter Fund Event!  \nVisit our table for FREE resources\, exciting opportunities\, and insightful consultations & health talks! \n📅 Date: August 24th \n🕛 Time: 12 PM – 4 PM \n📍 Location: Malcolm X Park \nSee you there!
URL:https://communityheropa.org/event/black-voters-matter-fund-event/
LOCATION:Malcolm X Park\, 5100 Pine St\, Philadelphia\, PA 19143\, Philadelphia\, PA\, 19143\, United States
ATTACH;FMTTYPE=image/jpeg:https://communityheropa.org/wp-content/uploads/2024/08/BVM-Event-August-24-2-1.jpg
END:VEVENT
BEGIN:VEVENT
DTSTART;TZID=America/New_York:20240825T120000
DTEND;TZID=America/New_York:20240825T150000
DTSTAMP:20260421T082736
CREATED:20240811T082106Z
LAST-MODIFIED:20240811T082106Z
UID:10000081-1724587200-1724598000@communityheropa.org
SUMMARY:PCOM Community Wellness Initiative Community Days
DESCRIPTION:🎉 Join Us at PCOM Community Wellness Day! 🎉\nWe’re excited to join the Philadelphia College of Osteopathic Medicine (PCOM) Community Wellness Initiative again this year! Visit our table and learn more about our efforts to promote health and wellness in the community. \n🗓️ Date: August 25\, 2024\n📍 Location: 4148 Lancaster Ave\, Philadelphia\, PA 19104\n⏰ Time: 12 PM – 3 PM \nSee you there! 💜 \n#CommunityWellness #HealthForAll #CommunityHeroAction
URL:https://communityheropa.org/event/pcom-community-wellness-initiative-community-days/
LOCATION:4148 Lancaster Ave\, Philadelphia\, PA 19104\, 4148 Lancaster Ave\, Philadelphia\, PA 19104\, Philadelphia\, PA\, 19104\, United States
CATEGORIES:Health
ATTACH;FMTTYPE=image/jpeg:https://communityheropa.org/wp-content/uploads/2024/08/PCOM.jpg
ORGANIZER;CN="PCOM Community Wellness Initiative":MAILTO:admissions@pcom.edu
END:VEVENT
END:VCALENDAR