BEGIN:VCALENDAR
VERSION:2.0
PRODID:-//Community Hero PA - ECPv6.15.17.1//NONSGML v1.0//EN
CALSCALE:GREGORIAN
METHOD:PUBLISH
X-ORIGINAL-URL:https://communityheropa.org
X-WR-CALDESC:Events for Community Hero PA
REFRESH-INTERVAL;VALUE=DURATION:PT1H
X-Robots-Tag:noindex
X-PUBLISHED-TTL:PT1H
BEGIN:VTIMEZONE
TZID:America/New_York
BEGIN:DAYLIGHT
TZOFFSETFROM:-0500
TZOFFSETTO:-0400
TZNAME:EDT
DTSTART:20230312T070000
END:DAYLIGHT
BEGIN:STANDARD
TZOFFSETFROM:-0400
TZOFFSETTO:-0500
TZNAME:EST
DTSTART:20231105T060000
END:STANDARD
BEGIN:DAYLIGHT
TZOFFSETFROM:-0500
TZOFFSETTO:-0400
TZNAME:EDT
DTSTART:20240310T070000
END:DAYLIGHT
BEGIN:STANDARD
TZOFFSETFROM:-0400
TZOFFSETTO:-0500
TZNAME:EST
DTSTART:20241103T060000
END:STANDARD
BEGIN:DAYLIGHT
TZOFFSETFROM:-0500
TZOFFSETTO:-0400
TZNAME:EDT
DTSTART:20250309T070000
END:DAYLIGHT
BEGIN:STANDARD
TZOFFSETFROM:-0400
TZOFFSETTO:-0500
TZNAME:EST
DTSTART:20251102T060000
END:STANDARD
END:VTIMEZONE
BEGIN:VEVENT
DTSTART;TZID=America/New_York:20240824T120000
DTEND;TZID=America/New_York:20240824T160000
DTSTAMP:20260421T044832
CREATED:20240821T033413Z
LAST-MODIFIED:20240821T033413Z
UID:10000085-1724500800-1724515200@communityheropa.org
SUMMARY:Black Voters Matter Fund Event
DESCRIPTION:Join Us at the Black Voters Matter Fund Event!  \nVisit our table for FREE resources\, exciting opportunities\, and insightful consultations & health talks! \n📅 Date: August 24th \n🕛 Time: 12 PM – 4 PM \n📍 Location: Malcolm X Park \nSee you there!
URL:https://communityheropa.org/event/black-voters-matter-fund-event/
LOCATION:Malcolm X Park\, 5100 Pine St\, Philadelphia\, PA 19143\, Philadelphia\, PA\, 19143\, United States
ATTACH;FMTTYPE=image/jpeg:https://communityheropa.org/wp-content/uploads/2024/08/BVM-Event-August-24-2-1.jpg
END:VEVENT
END:VCALENDAR